Workbook

Sheet Dashboard
A1: Portfolio | B1: Active YTD Return %
A2: Quant Rotation | B2: ='Quant Rotation Monthly Returns'!L23 -> 0.21419292
A3: Quant 60/40 | B3: ='Quant 6040 Stats'!L22 -> 0.21564176
A4: SPY (Benchmark) | B4: =F10 -> 0.24027224
A5: Whale 20 Conservative | B5: ='[1]Whale 20 Conservative'!C4 -> #REF!
A6: Whale 20 Growth | B6: ='[2]Whale 20 Growth'!C4 -> #REF!
A7: ARK Fund (Benchmark) | B7: =F19 -> -0.20587056
A9: Market | B9: Ticker | C9: Daily $ | D9: Daily % | E9: 44200 | F9: YTD
A10: S&P 500 | B10: SPY | C10: =IFERROR(__xludf.DUMMYFUNCTION("GOOGLEFINANCE(B10, ""price"")"),457.4) -> 457.4 | D10: =IFERROR(__xludf.DUMMYFUNCTION("GoogleFinance(B10,""changepct"")/100"),0.0152) -> 0.0152 | E10: =IFERROR(__xludf.DUMMYFUNCTION("index(GOOGLEFINANCE(B10,""price"",""2021/01/04""),2,2)"),368.79) -> 368.79 | F10: =C10/E10-1 -> 0.24027224
A11: Nasdaq 100 | B11: QQQ | C11: =IFERROR(__xludf.DUMMYFUNCTION("GOOGLEFINANCE(B11, ""price"")"),389.91) -> 389.91 | D11: =IFERROR(__xludf.DUMMYFUNCTION("GoogleFinance(B11,""changepct"")/100"),0.0072) -> 0.0072 | E11: =IFERROR(__xludf.DUMMYFUNCTION("index(GOOGLEFINANCE(B11,""price"",""2021/01/04""),2,2)"),309.31) -> 309.31 | F11: =C11/E11-1 -> 0.26058
A12: Dow Jones | B12: DIA | C12: =IFERROR(__xludf.DUMMYFUNCTION("GOOGLEFINANCE(B12, ""price"")"),346.61) -> 346.61 | D12: =IFERROR(__xludf.DUMMYFUNCTION("GoogleFinance(B12,""changepct"")/100"),0.0181) -> 0.0181 | E12: =IFERROR(__xludf.DUMMYFUNCTION("index(GOOGLEFINANCE(B12,""price"",""2021/01/04""),2,2)"),302.32) -> 302.32 | F12: =C12/E12-1 -> 0.1465004
A13: Mid Caps | B13: MDY | C13: =IFERROR(__xludf.DUMMYFUNCTION("GOOGLEFINANCE(B13, ""price"")"),500) -> 500 | D13: =IFERROR(__xludf.DUMMYFUNCTION("GoogleFinance(B13,""changepct"")/100"),0.0291) -> 0.0291 | E13: =IFERROR(__xludf.DUMMYFUNCTION("index(GOOGLEFINANCE(B13,""price"",""2021/01/04""),2,2)"),413.34) -> 413.34 | F13: =C13/E13-1 -> 0.20965791
A14: Small Caps | B14: IWM | C14: =IFERROR(__xludf.DUMMYFUNCTION("GOOGLEFINANCE(B14, ""price"")"),219.21) -> 219.21 | D14: =IFERROR(__xludf.DUMMYFUNCTION("GoogleFinance(B14,""changepct"")/100"),0.0279) -> 0.0279 | E14: =IFERROR(__xludf.DUMMYFUNCTION("index(GOOGLEFINANCE(B14,""price"",""2021/01/04""),2,2)"),193.5) -> 193.5 | F14: =C14/E14-1 -> 0.13286822
A16: EVs | B16: IDRV | C16: =IFERROR(__xludf.DUMMYFUNCTION("GOOGLEFINANCE(B16, ""price"")"),54.82) -> 54.82 | D16: =IFERROR(__xludf.DUMMYFUNCTION("GoogleFinance(B16,""changepct"")/100"),0.0086) -> 0.0086 | E16: =IFERROR(__xludf.DUMMYFUNCTION("index(GOOGLEFINANCE(B16,""price"",""2021/01/04""),2,2)"),43.41) -> 43.41 | F16: =C16/E16-1 -> 0.26284266
A17: AI Revolution | B17: IRBO | C17: =IFERROR(__xludf.DUMMYFUNCTION("GOOGLEFINANCE(B17, ""price"")"),42.89) -> 42.89 | D17: =IFERROR(__xludf.DUMMYFUNCTION("GoogleFinance(B17,""changepct"")/100"),0.00609999999999999) -> 0.0061 | E17: =IFERROR(__xludf.DUMMYFUNCTION("index(GOOGLEFINANCE(B17,""price"",""2021/01/04""),2,2)"),39.75) -> 39.75 | F17: =C17/E17-1 -> 0.078993711
A18: Clean Energy | B18: ICLN | C18: =IFERROR(__xludf.DUMMYFUNCTION("GOOGLEFINANCE(B18, ""price"")"),22.66) -> 22.66 | D18: =IFERROR(__xludf.DUMMYFUNCTION("GoogleFinance(B18,""changepct"")/100"),-0.0044) -> -0.0044 | E18: =IFERROR(__xludf.DUMMYFUNCTION("index(GOOGLEFINANCE(B18,""price"",""2021/01/04""),2,2)"),28.68) -> 28.68 | F18: =C18/E18-1 -> -0.20990237
A19: ARK | B19: ARKK | C19: =IFERROR(__xludf.DUMMYFUNCTION("GOOGLEFINANCE(B19, ""price"")"),99.02) -> 99.02 | D19: =IFERROR(__xludf.DUMMYFUNCTION("GoogleFinance(B19,""changepct"")/100"),0.0043) -> 0.0043 | E19: =IFERROR(__xludf.DUMMYFUNCTION("index(GOOGLEFINANCE(B19,""price"",""2021/01/04""),2,2)"),124.69) -> 124.69 | F19: =C19/E19-1 -> -0.20587056
A20: Healthcare | B20: HEAL | C20: =IFERROR(__xludf.DUMMYFUNCTION("GOOGLEFINANCE(B20, ""price"")"),9.18) -> 9.18 | D20: =IFERROR(__xludf.DUMMYFUNCTION("GoogleFinance(B20,""changepct"")/100"),-0.025) -> -0.025 | E20: =IFERROR(__xludf.DUMMYFUNCTION("index(GOOGLEFINANCE(B20,""price"",""2021/01/04""),2,2)"),10.2) -> 10.2 | F20: =C20/E20-1 -> -0.1
A21: Blockchain | B21: BLOK | C21: =IFERROR(__xludf.DUMMYFUNCTION("GOOGLEFINANCE(B21, ""price"")"),53.08) -> 53.08 | D21: =IFERROR(__xludf.DUMMYFUNCTION("GoogleFinance(B21,""changepct"")/100"),-0.0126) -> -0.0126 | E21: =IFERROR(__xludf.DUMMYFUNCTION("index(GOOGLEFINANCE(B21,""price"",""2021/01/04""),2,2)"),35.53) -> 35.53 | F21: =C21/E21-1 -> 0.49394878

Sheet Charts
B1: YTD Return | C1: 1yr Return | D1: 3yr Return | E1: 5yr Return
A2: Growth ETF Rotation | B2: 0.2142 | C2: 0.3333 | D2: 1.3237 | E2: 2.8495
A3: SPY | B3: 0.1592 | C3: 0.2512 | D3: 0.5666 | E3: 1.1749
B23: YTD Return | C23: 1yr Return | D23: 3yr Return | E23: 5yr Return
A24: Conservative ETF Rotation | B24: 0.2156 | C24: 0.289 | D24: 0.9338 | E24: 1.3462
A25: All World 60/40 (Benchmark) | B25: 0.0449 | C25: 0.0743 | D25: 0.3305 | E25: 0.543
B46: YTD Return | C46: 1yr Return | D46: 3yr Return | E46: 5yr Return
A47: Whale Rotation | B47: 0.0968 | C47: 0.325 | D47: 0.7409 | E47: 1.5375
A48: S&P 500 | B48: 0.12377087 | C48: 0.39851337 | D48: 0.62516594 | E48: 1.1880925

Sheet Stats
A1: Portfolio Returns | B1: 44225 | C1: 44253 | D1: 44260 | E1: =D1+7 -> 44267 | F1: =E1+7 -> 44274 | G1: 44288 | H1: =G1+7 -> 44295 | I1: =H1+7 -> 44302 | J1: =I1+7 -> 44309 | K1: =J1+7 -> 44316 | L1: =K1+7 -> 44323 | M1: =L1+7 -> 44330 | N1: 44337
A2: Quant Rotation | H2: 0.17158553 | I2: 0.18853847 | J2: 0.18982895 | K2: 0.19718998 | L2: 0.21931253 | M2: 0.19874501 | N2: 0.20133562
A3: Quant 60/40 | H3: 0.099222125 | I3: 0.11248096 | J3: 0.11872627 | K3: 0.1141955 | L3: 0.12612119 | M3: 0.1110347 | N3: 0.10918674
A4: Whale 20 Conservative | C4: 0.010155697 | D4: 0.016520349 | E4: 0.038512709 | F4: 0.031633101 | G4: 0.063717092 | H4: 0.10342594 | J4: 0.11341351 | K4: 0.1165107 | L4: 0.11903042 | M4: 0.10266172 | N4: 0.11859961
A5: Whale 20 Growth | C5: 0.070565321 | D5: -0.037996824 | E5: 0.01710629 | F5: -0.030266103 | G5: -0.017077233 | H5: 0.02841475 | J5: 0.041751831 | K5: 0.013871898 | L5: -0.091884479 | M5: -0.11298734 | N5: -0.058248301
A6: SPY | C6: 0.0173 | D6: 0.0261 | E6: 0.054 | F6: 0.0451 | G6: 0.075 | H6: 0.1042 | I6: 0.1197 | J6: 0.1183 | K6: 0.1198 | L6: 0.1327 | M6: 0.1179 | N6: 0.13715122
B28: YTD | C28: 1yr | D28: 3yr | E28: 5yr
A29: SPY | B29: 0.126 | C29: 0.396 | D29: 0.628 | E29: 1.195
A30: All World 60/40 | B30: 0.054 | C30: 0.2 | D30: 0.35 | E30: 0.575
A31: Quant Rotation
A32: Quant 60/40 | B32: 0.113
A33: Whale 20 Conservative
A34: Whale 20 Growth
B36: YTD | C36: 2018- To Date | D36: 2016 - To Date | E36: 2011 - To date

Sheet Quant Rotation
A2: Contributed Capital | C2: 10000 | H2: YTD | I2: 1yr | J2: 3yr | K2: 5yr
A3: Portfolio Value | C3: =K31 -> 12783.482 | G3: Quant Rotation
A4: % Gain/Loss | C4: =(C3-C2)/C2 -> 0.27834822 | G4: Benchmark (SPY)
C5: =K38 -> 0
A6: Ticker | B6: Name | C6: Market Price | D6: Daily Return | E6: %W | F6: %A | G6: Entry Price | H6: Shares | I6: Cost Basis | J6: Return | K6: Gain Loss
A7: SPGP | B7: =IFERROR(__xludf.DUMMYFUNCTION("GOOGLEFINANCE(A7,""name"")"),"Invesco S and P 500 GARP ETF") -> Invesco S and P 500 GARP ETF | C7: =IFERROR(__xludf.DUMMYFUNCTION("GOOGLEFINANCE(A7, ""price"")"),92.02) -> 92.02 | D7: =IFERROR(__xludf.DUMMYFUNCTION("GoogleFinance(A7,""changepct"")/100"),0.0131) -> 0.0131 | E7: =(I7+K7)/$C$3 -> 0.25205322 | F7: 0.25 | G7: 85.74 | H7: 35.015407 | I7: =H7*G7 -> 3002.221 | J7: =C7/G7-1 -> 0.073244693 | K7: =I7*J7 -> 219.89676
A8: VCR | B8: =IFERROR(__xludf.DUMMYFUNCTION("GOOGLEFINANCE(A8,""name"")"),"Vanguard Consumer Discretionary Index Fund ETF") -> Vanguard Consumer Discretionary Index Fund ETF | C8: =IFERROR(__xludf.DUMMYFUNCTION("GOOGLEFINANCE(A8, ""price"")"),340.15) -> 340.15 | D8: =IFERROR(__xludf.DUMMYFUNCTION("GoogleFinance(A8,""changepct"")/100"),0.0169) -> 0.0169 | E8: =(I8+K8)/$C$3 -> 0.25501921 | F8: 0.25 | G8: 313.25 | H8: 9.5841055 | I8: =H8*G8 -> 3002.221 | J8: =C8/G8-1 -> 0.085873903 | K8: =I8*J8 -> 257.81244
A9: VFH | B9: =IFERROR(__xludf.DUMMYFUNCTION("GOOGLEFINANCE(A9,""name"")"),"Vanguard Financials Index Fund ETF") -> Vanguard Financials Index Fund ETF | C9: =IFERROR(__xludf.DUMMYFUNCTION("GOOGLEFINANCE(A9, ""price"")"),96.06) -> 96.06 | D9: =IFERROR(__xludf.DUMMYFUNCTION("GoogleFinance(A9,""changepct"")/100"),0.0302) -> 0.0302 | E9: =(I9+K9)/$C$3 -> 0.24999826 | F9: 0.25 | G9: 90.24 | H9: 33.269293 | I9: =H9*G9 -> 3002.221 | J9: =C9/G9-1 -> 0.064494681 | K9: =I9*J9 -> 193.62729
A10: VHT | B10: =IFERROR(__xludf.DUMMYFUNCTION("GOOGLEFINANCE(A10,""name"")"),"Vanguard Health Care Index Fund ETF") -> Vanguard Health Care Index Fund ETF | C10: =IFERROR(__xludf.DUMMYFUNCTION("GOOGLEFINANCE(A10, ""price"")"),248.11) -> 248.11 | D10: =IFERROR(__xludf.DUMMYFUNCTION("GoogleFinance(A10,""changepct"")/100"),0.0048) -> 0.0048 | E10: =(I10+K10)/$C$3 -> 0.24292932 | F10: 0.25 | G10: 239.86 | H10: 12.516556 | I10: =H10*G10 -> 3002.221 | J10: =C10/G10-1 -> 0.034395064 | K10: =I10*J10 -> 103.26158
J28: Unrealized G/L $ | K28: =SUM(K7:K26) -> 774.59807
J29: Unrealized Return | K29: =K28/C2 -> 0.077459807
J30: Cash $ | K30: ='Quant Rotation Ledger'!H30 -> 0
J31: Holdings $ | K31: =SUM(I7:I26)+SUM(K7:K26)+K30 -> 12783.482
J32: Cash % | K32: =K30/K31 -> 0
J33: Holdings % | K33: =SUM(E7:E26) -> 1

Sheet Quant Rotation Monthly Returns
A1: End Date | B1: Portfolio | C1: Starting Weights | D1: Return | E1: Bench Return | F1: Portfolio | H1: Benchmark
A2: 44212 | B2: AMZN,MSFT,MTUM,VHT | C2: 25.0000%,25.0000%,25.0000%,25.0000% | D2: -0.0674 | E2: -0.0498 | F2: 100 | G2: =F2*(1+D2) -> 93.26 | H2: 100 | I2: =H2*(1+E2) -> 95.02
A3: 44243 | B3: FB,MTUM,TLH,TLT | C3: 25.0000%,25.0000%,25.0000%,25.0000% | D3: -0.0026 | E3: -0.0008 | F3: =G2 -> 93.26 | G3: =F3*(1+D3) -> 93.017524 | H3: =I2 -> 95.02 | I3: =H3*(1+E3) -> 94.943984
A4: 44271 | B4: MDY,TLH,TLT,VCR | C4: 25.0000%,25.0000%,25.0000%,25.0000% | D4: 0.0384 | E4: 0.0672 | F4: =G3 -> 93.017524 | G4: =F4*(1+D4) -> 96.589397 | H4: =I3 -> 94.943984 | I4: =H4*(1+E4) -> 101.32422
A5: 44302 | B5: AAPL,MDY,VCR,VGT | C5: 25.0000%,25.0000%,25.0000%,25.0000% | D5: -0.0439 | E5: 0.0039 | F5: =G4 -> 96.589397 | G5: =F5*(1+D5) -> 92.349122 | H5: =I4 -> 101.32422 | I5: =H5*(1+E5) -> 101.71938
A6: 44332 | B6: AMZN,IWM,MDY,VFH | C6: 25.0000%,25.0000%,25.0000%,25.0000% | D6: 0.0415 | E6: 0.017 | F6: =G5 -> 92.349122 | G6: =F6*(1+D6) -> 96.181611 | H6: =I5 -> 101.71938 | I6: =H6*(1+E6) -> 103.44861
A7: 44363 | B7: AMZN,MDY,VFH,VGT | C7: 25.0000%,25.0000%,25.0000%,25.0000% | D7: -0.0135 | E7: 0.0035 | F7: =G6 -> 96.181611 | G7: =F7*(1+D7) -> 94.883159 | H7: =I6 -> 103.44861 | I7: =H7*(1+E7) -> 103.81068
A8: 44393 | B8: MTUM,TLH,TLT,VHT | C8: 25.0000%,25.0000%,25.0000%,25.0000% | D8: 0.0271 | E8: 0.0365 | F8: =G7 -> 94.883159 | G8: =F8*(1+D8) -> 97.454493 | H8: =I7 -> 103.81068 | I8: =H8*(1+E8) -> 107.59977
A9: 44424 | B9: AMZN,MSFT,QQQ,VGT | C9: 25.0000%,25.0000%,25.0000%,25.0000% | D9: 0.0169 | E9: 0.0012 | F9: =G8 -> 97.454493 | G9: =F9*(1+D9) -> 99.101474 | H9: =I8 -> 107.59977 | I9: =H9*(1+E9) -> 107.72889
A10: 44455 | B10: MSFT,QQQ,VFH,VGT | C10: 25.0000%,25.0000%,25.0000%,25.0000% | D10: 0.0066 | E10: 0.0001 | F10: =G9 -> 99.101474 | G10: =F10*(1+D10) -> 99.755543 | H10: =I9 -> 107.72889 | I10: =H10*(1+E10) -> 107.73967
A11: 44485 | B11: AAPL,AMZN,QQQ,VGT | C11: 25.0000%,25.0000%,25.0000%,25.0000% | D11: -0.0181 | E11: -0.0173 | F11: =G10 -> 99.755543 | G11: =F11*(1+D11) -> 97.949968 | H11: =I10 -> 107.73967 | I11: =H11*(1+E11) -> 105.87577
A12: 44516 | B12: AAPL,MSFT,VFH,VGT | C12: 25.0000%,25.0000%,25.0000%,25.0000% | D12: 0.0336 | E12: 0.0368 | F12: =G11 -> 97.949968 | G12: =F12*(1+D12) -> 101.24109 | H12: =I11 -> 105.87577 | I12: =H12*(1+E12) -> 109.772
A13: 44546 | B13: IWM,MDY,VCR,VFH | C13: 25.0000%,25.0000%,25.0000%,25.0000% | D13: 0.0235 | E13: 0.0203 | F13: =G12 -> 101.24109 | G13: =F13*(1+D13) -> 103.62025 | H13: =I12 -> 109.772 | I13: =H13*(1+E13) -> 112.00037
A14: 44213 | B14: AAPL,IWM,MSFT,VFH | C14: 25.0000%,25.0000%,25.0000%,25.0000% | D14: 0.0231 | E14: 0.0179 | F14: =G13 -> 103.62025 | G14: =F14*(1+D14) -> 106.01388 | H14: =I13 -> 112.00037 | I14: =H14*(1+E14) -> 114.00518
... A21: 44425 | B21: FB,MTUM,SPGP,VFH | C21: 25.0000%,25.0000%,25.0000%,25.0000% | D21: 0.0074 | E21: 0.0029 | F21: =G20 -> 125.12992 | G21: =F21*(1+D21) -> 126.05589 | H21: =I20 -> 124.80014 | I21: =H21*(1+E21) -> 125.16206
A22: 44456 | B22: AAPL,FB,MSFT,VHT | C22: 25.0000%,25.0000%,25.0000%,25.0000% | D22: -0.0147 | E22: 0.0201 | F22: =G21 -> 126.05589 | G22: =F22*(1+D22) -> 124.20286 | H22: =I21 -> 125.16206 | I22: =H22*(1+E22) -> 127.67781 | L22: YTD Return | M22: 1yr Return | N22: 3yr Return | O22: 5yr Return
A23: 44486 | B23: IWM,MTUM,SPGP,VGT | C23: 25.0000%,25.0000%,25.0000%,25.0000% | D23: 0.0426 | E23: 0.0236 | F23: =G22 -> 124.20286 | G23: =F23*(1+D23) -> 129.49391 | H23: =I22 -> 127.67781 | I23: =H23*(1+E23) -> 130.69101 | K23: Quant Rotation | L23: =(G70-F62)/F62 -> 0.21419292 | M23: =(G70-F58)/F58 -> 0.3332808 | N23: =(G70-F34)/F34 -> 1.3236842 | O23: =(G70-F10)/F10 -> 2.8495425
A24: 44517 | B24: AMZN,MSFT,MTUM,VGT | C24: 25.0000%,25.0000%,25.0000%,25.0000% | D24: 0.0301 | E24: 0.0306 | F24: =G23 -> 129.49391 | G24: =F24*(1+D24) -> 133.39167 | H24: =I23 -> 130.69101 | I24: =H24*(1+E24) -> 134.69016 | K24: SPY | L24: =(I70-H62)/H62 -> 0.15916039 | M24: =(I70-H58)/H58 -> 0.25115869 | N24: =(I70-H34)/H34 -> 0.56656026 | O24: =(I70-H10)/H10 -> 1.17491
A25: 44547 | B25: AMZN,MDY,MTUM,VCR | C25: 25.0000%,25.0000%,25.0000%,25.0000% | D25: 0.0051 | E25: 0.0121 | F25: =G24 -> 133.39167 | G25: =F25*(1+D25) -> 134.07197 | H25: =I24 -> 134.69016 | I25: =H25*(1+E25) -> 136.31991
A26: 44214 | B26: MSFT,MTUM,SPGP,VCR | C26: 25.0000%,25.0000%,25.0000%,25.0000% | D26: 0.0912 | E26: 0.0564 | F26: =G25 -> 134.07197 | G26: =F26*(1+D26) -> 146.29933 | H26: =I25 -> 136.31991 | I26: =H26*(1+E26) -> 144.00835
A27: 44245 | B27: AMZN,QQQ,SPGP,VCR | C27: 25.0000%,25.0000%,25.0000%,25.0000% | D27: -0.0057 | E27: -0.0364 | F27: =G26 -> 146.29933 | G27: =F27*(1+D27) -> 145.46543 | H27: =I26 -> 144.00835 | I27: =H27*(1+E27) -> 138.76645
A28: 44273 | B28: AMZN,MSFT,MTUM,VCR | C28: 25.0000%,25.0000%,25.0000%,25.0000% | D28: -0.0318 | E28: -0.0274 | F28: =G27 -> 145.46543 | G28: =F28*(1+D28) -> 140.83963 | H28: =I27 -> 138.76645 | I28: =H28*(1+E28) -> 134.96425
A29: 44304 | B29: IWM,MDY,SPGP,TLT | C29: 25.0000%,25.0000%,25.0000%,25.0000% | D29: -0.0014 | E29: 0.0052 | F29: =G28 -> 140.83963 | G29: =F29*(1+D29) -> 140.64245 | H29: =I28 -> 134.96425 | I29: =H29*(1+E29) -> 135.66606
A30: 44334 | B30: AMZN,IWM,MSFT,TLH | C30: 25.0000%,25.0000%,25.0000%,25.0000% | D30: 0.0439 | E30: 0.0243 | F30: =G29 -> 140.64245 | G30: =F30*(1+D30) -> 146.81666 | H30: =I29 -> 135.66606 | I30: =H30*(1+E30) -> 138.96274
A31: 44365 | B31: AMZN,FB,IWM,MSFT | C31: 25.0000%,25.0000%,25.0000%,25.0000% | D31: 0.015 | E31: 0.0058 | F31: =G30 -> 146.81666 | G31: =F31*(1+D31) -> 149.01891 | H31: =I30 -> 138.96274 | I31: =H31*(1+E31) -> 139.76873
A32: 44395 | B32: AMZN,FB,IWM,VCR | C32: 25.0000%,25.0000%,25.0000%,25.0000% | D32: -0.0088 | E32: 0.037 | F32: =G31 -> 149.01891 | G32: =F32*(1+D32) -> 147.70754 | H32: =I31 -> 139.76873 | I32: =H32*(1+E32) -> 144.94017
A33: 44426 | B33: AAPL,AMZN,MSFT,VHT | C33: 25.0000%,25.0000%,25.0000%,25.0000% | D33: 0.1115 | E33: 0.0319 | F33: =G32 -> 147.70754 | G33: =F33*(1+D33) -> 164.17693 | H33: =I32 -> 144.94017 | I33: =H33*(1+E33) -> 149.56376
A34: 44457 | B34: AAPL,AMZN,VGT,VHT | C34: 25.0000%,25.0000%,25.0000%,25.0000% | D34: 0.0028 | E34: 0.0059 | F34: =G33 -> 164.17693 | G34: =F34*(1+D34) -> 164.63662 | H34: =I33 -> 149.56376 | I34: =H34*(1+E34) -> 150.44619
A35: 44487 | B35: AAPL,MSFT,MTUM,VHT | C35: 25.0000%,25.0000%,25.0000%,25.0000% | D35: -0.068 | E35: -0.0691 | F35: =G34 -> 164.63662 | G35: =F35*(1+D35) -> 153.44133 | H35: =I34 -> 150.44619 | I35: =H35*(1+E35) -> 140.05036
A36: 44518 | B36: AAPL,TLH,TLT,VHT | C36: 25.0000%,25.0000%,25.0000%,25.0000% | D36: -0.0204 | E36: 0.0185 | F36: =G35 -> 153.44133 | G36: =F36*(1+D36) -> 150.31113 | H36: =I35 -> 140.05036 | I36: =H36*(1+E36) -> 142.64129
... A66: 44337 | B66: FB,SPGP,VCR,VFH | C66: 25.0000%,25.0000%,25.0000%,25.0000% | D66: 0.0105 | E66: 0.0066 | F66: =G65 -> 372.00281 | G66: =F66*(1+D66) -> 375.90884 | H66: =I65 -> 226.33705 | I66: =H66*(1+E66) -> 227.83087
A67: 44368 | B67: MDY,SPGP,VFH,VHT | C67: 25.0000%,25.0000%,25.0000%,25.0000% | D67: =0.07 % -> 0.0007 | E67: =2.25 % -> 0.0225 | F67: =G66 -> 375.90884 | G67: =F67*(1+D67) -> 376.17198 | H67: =I66 -> 227.83087 | I67: =H67*(1+E67) -> 232.95706
A68: 44407 | B68: AAPL,MSFT,QQQ,VGT | C68: 25.0000%,25.0000%,25.0000%,25.0000% | D68: =4.48 % -> 0.0448 | E68: =2.44 % -> 0.0244 | F68: =G67 -> 376.17198 | G68: =F68*(1+D68) -> 393.02448 | H68: =I67 -> 232.95706 | I68: =H68*(1+E68) -> 238.64122
A69: 44438 | B69: AAPL,MSFT,QQQ,VGT | C69: 25.0000%,25.0000%,25.0000%,25.0000% | D69: =4.53 % -> 0.0453 | E69: =2.98 % -> 0.0298 | F69: =G68 -> 393.02448 | G69: =F69*(1+D69) -> 410.82849 | H69: =I68 -> 238.64122 | I69: =H69*(1+E69) -> 245.75273
A70: 44469 | B70: FB,MSFT,QQQ,VGT | C70: 25.0000%,25.0000%,25.0000%,25.0000% | D70: -0.0714 | E70: -0.0466 | F70: =G69 -> 410.82849 | G70: =F70*(1+D70) -> 381.49534 | H70: =I69 -> 245.75273 | I70: =H70*(1+E70) -> 234.30065

Sheet Quant Rotation Yearly Returns
A1: Year | B1: Total Return | C1: SPY Total Return
A2: 2011 | B2: =18.3% -> 0.183 | C2: =1.9% -> 0.019
A3: 2012 | B3: =20% -> 0.2 | C3: =16% -> 0.16
A4: 2013 | B4: =43% -> 0.43 | C4: =32.3% -> 0.323
A5: 2014 | B5: =12.8% -> 0.128 | C5: =13.5% -> 0.135
A6: 2015 | B6: =14% -> 0.14 | C6: =1.3% -> 0.013
A7: 2016 | B7: =3.6% -> 0.036 | C7: =12% -> 0.12
A8: 2017 | B8: =29.4% -> 0.294 | C8: =21.7% -> 0.217
A9: 2018 | B9: =9.2% -> 0.092 | C9: -0.046
A10: 2019 | B10: =29.5% -> 0.295 | C10: =31.2% -> 0.312
A11: 2020 | B11: =65.9% -> 0.659 | C11: =18.4% -> 0.184
A12: 2021 | B12: =19.2% -> 0.192 | C12: =12.4% -> 0.124

Sheet Quant Rotation Ledger
D1: Price | E1: Shares | F1: Cost | G1: % of Portfolio | H1: Cash Balance
H2: 10000
A3: 44200 | B3: BUY | C3: IWM | D3: 193.5 | E3: =($H$2*0.25)/D3 -> 12.919897 | F3: =-E3*D3 -> -2500 | G3: =F3/$H$2 -> -0.25 | H3: =H2+F3 -> 7500
A4: 44200 | B4: BUY | C4: MDY | D4: 413.34 | E4: =($H$2*0.25)/D4 -> 6.0482895 | F4: =-E4*D4 -> -2500 | G4: =F4/$H$2 -> -0.25 | H4: =H3+F4 -> 5000
A5: 44200 | B5: BUY | C5: SPGP | D5: 71.03 | E5: =($H$2*0.25)/D5 -> 35.196396 | F5: =-E5*D5 -> -2500 | G5: =F5/$H$2 -> -0.25 | H5: =H4+F5 -> 2500
A6: 44200 | B6: BUY | C6: VCR | D6: 271.66 | E6: =($H$2*0.25)/D6 -> 9.2026798 | F6: =-E6*D6 -> -2500 | G6: =F6/$H$2 -> -0.25 | H6: =H5+F6 -> 0
A7: 44228 | B7: SELL | C7: IWM | D7: 210.61 | E7: 12.919897 | F7: =+E7*D7 -> 2721.0594 | G7: =F7/$H$2 -> 0.27210594 | H7: =H6+F7 -> 2721.0594
A8: 44228 | B8: SELL | C8: MDY | D8: 434.9 | E8: 6.0482895 | F8: =+E8*D8 -> 2630.4011 | G8: =F8/$H$2 -> 0.26304011 | H8: =H7+F8 -> 5351.4606
A9: 44228 | B9: SELL | C9: SPGP | D9: 73.54 | E9: 35.196396 | F9: =+E9*D9 -> 2588.343 | G9: =F9/$H$2 -> 0.2588343 | H9: =H8+F9 -> 7939.8035
A10: 44228 | B10: SELL | C10: VCR | D10: 288.69 | E10: 9.2026798 | F10: =+E10*D10 -> 2656.7216 | G10: =F10/$H$2 -> 0.26567216 | H10: =H9+F10 -> 10596.525 | I10: =(H10-H2)/H2 -> 0.059652515
A11: 44228 | B11: BUY | C11: IWM | D11: 210.61 | E11: =($H$10*0.25)/D11 -> 12.578374 | F11: =-E11*D11 -> -2649.1313 | G11: =F11/$H$10 -> -0.25 | H11: =H10+F11 -> 7947.3939
A12: 44228 | B12: BUY | C12: MDY | D12: 434.9 | E12: =($H$10*0.25)/D12 -> 6.0913573 | F12: =-E12*D12 -> -2649.1313 | G12: =F12/$H$10 -> -0.25 | H12: =H11+F12 -> 5298.2626
A13: 44228 | B13: BUY | C13: SPGP | D13: 73.54 | E13: =($H$10*0.25)/D13 -> 36.022998 | F13: =-E13*D13 -> -2649.1313 | G13: =F13/$H$10 -> -0.25 | H13: =H12+F13 -> 2649.1313
A14: 44228 | B14: BUY | C14: VCR | D14: 288.69 | E14: =($H$10*0.25)/D14 -> 9.1763874 | F14: =-E14*D14 -> -2649.1313 | G14: =F14/$H$10 -> -0.25 | H14: =H13+F14 -> 0
A15: 44256 | B15: SELL | C15: IWM | D15: 226.07 | E15: 12.578374 | F15: =+E15*D15 -> 2843.5929 | G15: =F15/$H$10 -> 0.26835146 | H15: =H14+F15 -> 2843.5929
A16: 44256 | B16: SELL | C16: MDY | D16: 467.63 | E16: 6.0913573 | F16: =+E16*D16 -> 2848.5014 | G16: =F16/$H$10 -> 0.26881467 | H16: =H15+F16 -> 5692.0944
A17: 44256 | B17: SELL | C17: SPGP | D17: 79.76 | E17: 36.022998 | F17: =+E17*D17 -> 2873.1943 | G17: =F17/$H$10 -> 0.27114496 | H17: =H16+F17 -> 8565.2887
A18: 44256 | B18: SELL | C18: VCR | D18: 291.04 | E18: 9.1763874 | F18: =+E18*D18 -> 2670.6958 | G18: =F18/$H$10 -> 0.25203505 | H18: =H17+F18 -> 11235.984 | I18: =(H18-H10)/H10 -> 0.060346135
A19: 44256 | B19: BUY | C19: IWM | D19: 226.07 | E19: =($H$18*0.25)/D19 -> 12.425338 | F19: =-E19*D19 -> -2808.9961 | G19: =F19/$H$18 -> -0.25 | H19: =H18+F19 -> 8426.9884
A20: 44256 | B20: BUY | C20: MDY | D20: 467.63 | E20: =($H$18*0.25)/D20 -> 6.0068775 | F20: =-E20*D20 -> -2808.9961 | G20: =F20/$H$18 -> -0.25 | H20: =H19+F20 -> 5617.9922
A21: 44256 | B21: BUY | C21: SPGP | D21: 79.76 | E21: =($H$18*0.25)/D21 -> 35.218106 | F21: =-E21*D21 -> -2808.9961 | G21: =F21/$H$18 -> -0.25 | H21: =H20+F21 -> 2808.9961
A22: 44256 | B22: BUY | C22: VFH | D22: 82.64 | E22: =($H$18*0.25)/D22 -> 33.990757 | F22: =-E22*D22 -> -2808.9961 | G22: =F22/$H$18 -> -0.25 | H22: =H21+F22 -> 0
A23: 44287 | B23: SELL | C23: IWM | D23: 223.74 | E23: 12.425338 | F23: =+E23*D23 -> 2780.0451 | G23: =F23/$H$18 -> 0.24742336 | H23: =H22+F23 -> 2780.0451
A24: 44287 | B24: SELL | C24: MDY | D24: 482.3 | E24: 6.0068775 | F24: =+E24*D24 -> 2897.117 | G24: =F24/$H$18 -> 0.25784274 | H24: =H23+F24 -> 5677.1621
A25: 44287 | B25: SELL | C25: SPGP | D25: 82.42 | E25: 35.218106 | F25: =+E25*D25 -> 2902.6763 | G25: =F25/$H$18 -> 0.25833751 | H25: =H24+F25 -> 8579.8384
A26: 44287 | B26: SELL | C26: VFH | D26: 85.53 | E26: 33.990757 | F26: =+E26*D26 -> 2907.2294 | G26: =F26/$H$18 -> 0.25874274 | H26: =H25+F26 -> 11487.068 | I26: =(H26-H18)/H18 -> 0.022346355
A27: 44287 | B27: BUY | C27: MDY | D27: 482.3 | E27: =($H$26*0.25)/D27 -> 5.9543167 | F27: =-E27*D27 -> -2871.7669 | G27: =F27/$H$26 -> -0.25 | H27: =H26+F27 -> 8615.3008
A28: 44287 | B28: BUY | C28: SPGP | D28: 82.42 | E28: =($H$26*0.25)/D28 -> 34.843084 | F28: =-E28*D28 -> -2871.7669 | G28: =F28/$H$26 -> -0.25 | H28: =H27+F28 -> 5743.5339
A29: 44287 | B29: BUY | C29: VCR | D29: 298.16 | E29: =($H$26*0.25)/D29 -> 9.6316305 | F29: =-E29*D29 -> -2871.7669 | G29: =F29/$H$26 -> -0.25 | H29: =H28+F29 -> 2871.7669
A30: 44287 | B30: BUY | C30: VFH | D30: 85.53 | E30: =($H$26*0.25)/D30 -> 33.576136 | F30: =-E30*D30 -> -2871.7669 | G30: =F30/$H$26 -> -0.25 | H30: =H29+F30 -> 0
A31: 44319 | B31: SELL | C31: MDY | D31: 499.54 | E31: 5.9543167 | F31: =+E31*D31 -> 2974.4194 | G31: =F31/$H$26 -> 0.25893635 | H31: =H30+F31 -> 2974.4194
A32: 44319 | B32: SELL | C32: SPGP | D32: 85.74 | E32: 34.843084 | F32: =+E32*D32 -> 2987.446 | G32: =F32/$H$26 -> 0.26007037 | H32: =H31+F32 -> 5961.8654
A33: 44319 | B33: SELL | C33: VCR | D33: 313.25 | E33: 9.6316305 | F33: =+E33*D33 -> 3017.1083 | G33: =F33/$H$26 -> 0.2626526 | H33: =H32+F33 -> 8978.9736
A34: 44319 | B34: SELL | C34: VFH | D34: 90.24 | E34: 33.576136 | F34: =+E34*D34 -> 3029.9105 | G34: =F34/$H$26 -> 0.2637671 | H34: =H33+F34 -> 12008.884 | I34: =(H34-H26)/H26 -> 0.04542642
A35: 44319 | B35: BUY | C35: SPGP | D35: 85.74 | E35: =($H$34*0.25)/D35 -> 35.015407 | F35: =-E35*D35 -> -3002.221 | G35: =F35/$H$34 -> -0.25 | H35: =H34+F35 -> 9006.6631
A36: 44319 | B36: BUY | C36: VCR | D36: 313.25 | E36: =($H$34*0.25)/D36 -> 9.5841055 | F36: =-E36*D36 -> -3002.221 | G36: =F36/$H$34 -> -0.25 | H36: =H35+F36 -> 6004.4421
A37: 44319 | B37: BUY | C37: VFH | D37: 90.24 | E37: =($H$34*0.25)/D37 -> 33.269293 | F37: =-E37*D37 -> -3002.221 | G37: =F37/$H$34 -> -0.25 | H37: =H36+F37 -> 3002.221
A38: 44319 | B38: BUY | C38: VHT | D38: 239.86 | E38: =($H$34*0.25)/D38 -> 12.516556 | F38: =-E38*D38 -> -3002.221 | G38: =F38/$H$34 -> -0.25 | H38: =H37+F38 -> 0

Sheet Quant 6040
C13: =H74 -> 0
C21: YTD Return | D21: 1yr Return | E21: 3yr Return | F21: 5yr Return
A22: Quant 60/40 | C22: ='Quant 6040 Stats'!L22 -> 0.21564176 | D22: ='Quant 6040 Stats'!M22 -> 0.28904707 | E22: ='Quant 6040 Stats'!N22 -> 0.93375905 | F22: ='Quant 6040 Stats'!O22 -> 1.3462364
A23: All World 60/40 (Benchmark) | C23: ='Quant 6040 Stats'!L23 -> 0.044900508 | D23: ='Quant 6040 Stats'!M23 -> 0.074281021 | E23: ='Quant 6040 Stats'!N23 -> 0.33049972 | F23: ='Quant 6040 Stats'!O23 -> 0.54303727
A24: SPY (Benchmark) | C24: ='Quant 6040 Stats'!L24 -> 0.15916039 | D24: ='Quant 6040 Stats'!M24 -> 0.25115869 | E24: ='Quant 6040 Stats'!N24 -> 0.56656026 | F24: ='Quant 6040 Stats'!O24 -> 1.17491
A27: Ticker | B27: Market Price | C27: % Allocation | D27: Entry Price | E27: Return | F27: Portfolio Weighted Return
A28: QQQ | B28: =IFERROR(__xludf.DUMMYFUNCTION("index(GOOGLEFINANCE(A21,""price"",""2021/12/01""),2,2)"),387.12) -> 387.12 | C28: 0.6 | D28: =IFERROR(__xludf.DUMMYFUNCTION("index(GOOGLEFINANCE(A21,""price"",""2021/11/30""),2,2)"),393.82) -> 393.82 | E28: =B28/D28-1 -> -0.017012849 | F28: =E28*C28 -> -0.010207709
A29: TLT | B29: =IFERROR(__xludf.DUMMYFUNCTION("index(GOOGLEFINANCE(A22,""price"",""2021/12/01""),2,2)"),152.34) -> 152.34 | C29: 0.4 | D29: =IFERROR(__xludf.DUMMYFUNCTION("index(GOOGLEFINANCE(A22,""price"",""2021/11/30""),2,2)"),151.59) -> 151.59 | E29: =B29/D29-1 -> 0.0049475559 | F29: =E29*C29 -> 0.0019790224
E31: Monthly Gain/Loss | F31: =F29+F28 -> -0.0082286867
A33: Start | B33: End | C33: Portfolio | D33: Starting Weights | E33: Return | F33: Bench Return
A34: 44196 | B34: 44225 | C34: IWM,JNK | D34: 60.0000%,40.0000% | E34: 0.02709 | F34: -0.01019
A35: 44225 | B35: 44253 | C35: IWM,JNK | D35: 60.0000%,40.0000% | E35: 0.037817 | F35: 0.027806
A36: 44253 | B36: 44286 | C36: IWM,JNK | D36: 60.0000%,40.0000% | E36: 0.012197 | F36: 0.045405
A37: 44286 | B37: 44316 | C37: JNK,MDY | D37: 40.0000%,60.0000% | E37: 0.028807 | F37: 0.05291
A38: 44316 | B38: 44344 | C38: JNK,MDY | D38: 40.0000%,60.0000% | E38: 0.001724 | F38: 0.006566
A39: 44344 | B39: 44377 | C39: JNK,SPY | D39: 40.0000%,60.0000% | E39: 0.018771 | F39: 0.022473
A40: 44377 | B40: 44407 | C40: QQQ,TLT | D40: 60.0000%,40.0000% | E40: 0.032031 | F40: 0.024412
A41: 44407 | B41: 44439 | C41: QQQ,TLT | D41: 60.0000%,40.0000% | E41: 0.023946 | F41: 0.02976
A42: 44439 | B42: 44469 | C42: QQQ,TLT | D42: 60.0000%,40.0000% | E42: -0.04571 | F42: -0.04658
A43: 44469 | B43: 44498 | C43: QQQ,TLT | D43: 60.0000%,40.0000% | E43: 0.05704 | F43: 0.070164
A44: 44498 | B44: 44530 | C44: JNK,QQQ | D44: 40.0000%,60.0000% | E44: 0.00677 | F44: -0.00803
A45: 44530 | C45: QQQ,TLT | D45: 60.0000%,40.0000% | E45: =F31 -> -0.0082286867 | F45: -0.01111

Sheet Sheet20
C1: YTD Return | D1: 1yr Return | E1: 3yr Return | F1: 5yr Return
A2: Quant Rotation | C2: 0.19222523 | D2: 0.77300228 | E2: 1.5137291 | F2: 2.9479415
A3: Quant 60/40 | C3: 0.11789593 | D3: 0.48801307 | E3: 0.78842839 | F3: 1.2474799
A4: Whale Watching - Conservative | C4: 0.0968 | D4: 0.325 | E4: 0.7409 | F4: 1.5375
A5: Whale Watching - Growth | C5: -0.0459 | D5: 0.5802 | E5: 0.9841 | F5: 2.4895
A6: All World 60/40 (Benchmark) | C6: 0.056868845 | D6: 0.21701237 | E6: 0.36246043 | F6: 0.5839785
A7: SPY (Benchmark) | C7: 0.12377087 | D7: 0.39851337 | E7: 0.62516594 | F7: 1.1880925

Sheet Quant 6040 Returns
A1: End Date | B1: Portfolio | C1: Starting Weights | D1: Return | E1: Bench Return
A2: 42398 | B2: QQQ,TLT | C2: 60.0000%,40.0000% | D2: -0.01917 | E2: -0.02039
A3: 42429 | B3: SHY,TLT | C3: 60.0000%,40.0000% | D3: 0.013019 | E3: -0.00409
A4: 42460 | B4: SHY,TLT | C4: 60.0000%,40.0000% | D4: 0.000467 | E4: 0.040823
A5: 42489 | B5: MDY,TLT | C5: 60.0000%,40.0000% | D5: 0.004201 | E5: 0.008017
A6: 42521 | B6: JNK,MDY | C6: 40.0000%,60.0000% | D6: 0.014737 | E6: 0.004552
A7: 42551 | B7: IWM,JNK | C7: 60.0000%,40.0000% | D7: 0.00728 | E7: 0.005927
A8: 42580 | B8: IWM,TLT | C8: 60.0000%,40.0000% | D8: 0.043622 | E8: 0.024804 | P8: 100 | Q8: =P8*(1+$D8) -> 104.3622 | S8: 100 | T8: =S8*(1+$E8) -> 102.4804
A9: 42613 | B9: QQQ,TLT | C9: 60.0000%,40.0000% | D9: 0.002255 | E9: -0.00179 | P9: =Q8 -> 104.3622 | Q9: =P9*(1+$D9) -> 104.59754 | S9: =T8 -> 102.4804 | T9: =S9*(1+$E9) -> 102.29696
A10: 42643 | B10: IWM,TLT | C10: 60.0000%,40.0000% | D10: 0.000427 | E10: 0.005581 | P10: =Q9 -> 104.59754 | Q10: =P10*(1+$D10) -> 104.6422 | S10: =T9 -> 102.29696 | T10: =S10*(1+$E10) -> 102.86788
A11: 42674 | B11: JNK,QQQ | C11: 40.0000%,60.0000% | D11: -0.01174 | E11: -0.0192 | P11: =Q10 -> 104.6422 | Q11: =P11*(1+$D11) -> 103.4137 | S11: =T10 -> 102.86788 | T11: =S11*(1+$E11) -> 100.89282
A12: 42704 | B12: JNK,QQQ | C12: 40.0000%,60.0000% | D12: 0.003127 | E12: -0.00878 | P12: =Q11 -> 103.4137 | Q12: =P12*(1+$D12) -> 103.73708 | S12: =T11 -> 100.89282 | T12: =S12*(1+$E12) -> 100.00698
A13: 42734 | B13: IWM,JNK | C13: 60.0000%,40.0000% | D13: 0.02502 | E13: 0.0136 | P13: =Q12 -> 103.73708 | Q13: =P13*(1+$D13) -> 106.33258 | S13: =T12 -> 100.00698 | T13: =S13*(1+$E13) -> 101.36707
A14: 42766 | B14: IWM,JNK | C14: 60.0000%,40.0000% | D14: 0.006739 | E14: 0.016317 | P14: =Q13 -> 106.33258 | Q14: =P14*(1+$D14) -> 107.04915 | S14: =T13 -> 101.36707 | T14: =S14*(1+$E14) -> 103.02108
A15: 42794 | B15: IWM,JNK | C15: 60.0000%,40.0000% | D15: 0.016858 | E15: 0.017555 | P15: =Q14 -> 107.04915 | Q15: =P15*(1+$D15) -> 108.85379 | S15: =T14 -> 103.02108 | T15: =S15*(1+$E15) -> 104.82961
A16: 42825 | B16: JNK,QQQ | C16: 40.0000%,60.0000% | D16: 0.010926 | E16: 0.010187 | P16: =Q15 -> 108.85379 | Q16: =P16*(1+$D16) -> 110.04312 | S16: =T15 -> 104.82961 | T16: =S16*(1+$E16) -> 105.89751
A17: 42853 | B17: JNK,QQQ | C17: 40.0000%,60.0000% | D17: 0.020515 | E17: 0.014894 | P17: =Q16 -> 110.04312 | Q17: =P17*(1+$D17) -> 112.30066 | S17: =T16 -> 105.89751 | T17: =S17*(1+$E17) -> 107.47475
A18: 42886 | B18: QQQ,TLT | C18: 60.0000%,40.0000% | D18: 0.030942 | E18: 0.016971 | P18: =Q17 -> 112.30066 | Q18: =P18*(1+$D18) -> 115.77546 | S18: =T17 -> 107.47475 | T18: =S18*(1+$E18) -> 109.2987
A19: 42916 | B19: QQQ,TLT | C19: 60.0000%,40.0000% | D19: -0.01073 | E19: 0.001729 | P19: =Q18 -> 115.77546 | Q19: =P19*(1+$D19) -> 114.53319 | S19: =T18 -> 109.2987 | T19: =S19*(1+$E19) -> 109.48768
A20: 42947 | B20: QQQ,TLT | C20: 60.0000%,40.0000% | D20: 0.021736 | E20: 0.015103 | P20: =Q19 -> 114.53319 | Q20: =P20*(1+$D20) -> 117.02269 | S20: =T19 -> 109.48768 | T20: =S20*(1+$E20) -> 111.14127
A21: 42978 | B21: QQQ,TLT | C21: 60.0000%,40.0000% | D21: 0.026069 | E21: 0.006144 | P21: =Q20 -> 117.02269 | Q21: =P21*(1+$D21) -> 120.07335 | S21: =T20 -> 111.14127 | T21: =S21*(1+$E21) -> 111.82413
A22: 43007 | B22: QQQ,TLT | C22: 60.0000%,40.0000% | D22: -0.01104 | E22: 0.008652 | H22: YTD Return | I22: 1yr Return | J22: 3yr Return | K22: 5yr Return | P22: =Q21 -> 120.07335 | Q22: =P22*(1+$D22) -> 118.74774 | S22: =T21 -> 111.82413 | T22: =S22*(1+$E22) -> 112.79163
A23: 43039 | B23: JNK,QQQ | C23: 40.0000%,60.0000% | D23: 0.028463 | E23: 0.01079 | G23: Quant 60/40 | H23: =H67 -> 0.11789593 | I23: =L67 -> 0.48801307 | J23: =O67 -> 0.77727952 | K23: =R67 -> 1.2312365 | P23: =Q22 -> 118.74774 | Q23: =P23*(1+$D23) -> 122.12766 | S23: =T22 -> 112.79163 | T23: =S23*(1+$E23) -> 114.00865
A24: 43069 | B24: IWM,JNK | C24: 60.0000%,40.0000% | D24: 0.016244 | E24: 0.010042 | G24: All World 60/40 | H24: =U70 -> 0.056868845 | I24: =U69 -> 0.21701237 | J24: =U68 -> 0.36491728 | K24: =U67 -> 0.57464557 | P24: =Q23 -> 122.12766 | Q24: =P24*(1+$D24) -> 124.1115 | S24: =T23 -> 114.00865 | T24: =S24*(1+$E24) -> 115.15353
A25: 43098 | B25: IWM,JNK | C25: 60.0000%,40.0000% | D25: -0.0012 | E25: 0.008272 | P25: =Q24 -> 124.1115 | Q25: =P25*(1+$D25) -> 123.96257 | S25: =T24 -> 115.15353 | T25: =S25*(1+$E25) -> 116.10608
A26: 43131 | B26: QQQ,TLT | C26: 60.0000%,40.0000% | D26: 0.03952 | E26: 0.022155 | P26: =Q25 -> 123.96257 | Q26: =P26*(1+$D26) -> 128.86157 | S26: =T25 -> 116.10608 | T26: =S26*(1+$E26) -> 118.67841
A27: 43159 | B27: JNK,QQQ | C27: 40.0000%,60.0000% | D27: -0.01136 | E27: -0.02951 | P27: =Q26 -> 128.86157 | Q27: =P27*(1+$D27) -> 127.3977 | S27: =T26 -> 118.67841 | T27: =S27*(1+$E27) -> 115.17621
A28: 43188 | B28: JNK,QQQ | C28: 40.0000%,60.0000% | D28: -0.02663 | E28: -0.00376 | P28: =Q27 -> 127.3977 | Q28: =P28*(1+$D28) -> 124.0051 | S28: =T27 -> 115.17621 | T28: =S28*(1+$E28) -> 114.74314
A29: 43220 | B29: JNK,QQQ | C29: 40.0000%,60.0000% | D29: 0.004943 | E29: 0.000805 | P29: =Q28 -> 124.0051 | Q29: =P29*(1+$D29) -> 124.61806 | S29: =T28 -> 114.74314 | T29: =S29*(1+$E29) -> 114.83551
A30: 43251 | B30: JNK,SHY | C30: 40.0000%,60.0000% | D30: 0.001136 | E30: 0.006428 | P30: =Q29 -> 124.61806 | Q30: =P30*(1+$D30) -> 124.75962 | S30: =T29 -> 114.83551 | T30: =S30*(1+$E30) -> 115.57367
A31: 43280 | B31: IWM,TLT | C31: 60.0000%,40.0000% | D31: 0.006273 | E31: -0.0018 | P31: =Q30 -> 124.75962 | Q31: =P31*(1+$D31) -> 125.54224 | S31: =T30 -> 115.57367 | T31: =S31*(1+$E31) -> 115.36564
A32: 43312 | B32: JNK,QQQ | C32: 40.0000%,60.0000% | D32: 0.023866 | E32: 0.016399 | M32: 100 | N32: =M32*(1+$D32) -> 102.3866 | P32: =Q31 -> 125.54224 | Q32: =P32*(1+$D32) -> 128.53843 | S32: =T31 -> 115.36564 | T32: =S32*(1+$E32) -> 117.25752
A33: 43343 | B33: JNK,QQQ | C33: 40.0000%,60.0000% | D33: 0.037157 | E33: 0.007647 | M33: =N32 -> 102.3866 | N33: =M33*(1+$D33) -> 106.19098 | P33: =Q32 -> 128.53843 | Q33: =P33*(1+$D33) -> 133.31453 | S33: =T32 -> 117.25752 | T33: =S33*(1+$E33) -> 118.15419
A34: 43371 | B34: JNK,QQQ | C34: 40.0000%,60.0000% | D34: 0.00077 | E34: -0.00134 | M34: =N33 -> 106.19098 | N34: =M34*(1+$D34) -> 106.27275 | P34: =Q33 -> 133.31453 | Q34: =P34*(1+$D34) -> 133.41719 | S34: =T33 -> 118.15419 | T34: =S34*(1+$E34) -> 117.99586
A35: 43404 | B35: JNK,QQQ | C35: 40.0000%,60.0000% | D35: -0.05955 | E35: -0.04784 | M35: =N34 -> 106.27275 | N35: =M35*(1+$D35) -> 99.944204 | P35: =Q34 -> 133.41719 | Q35: =P35*(1+$D35) -> 125.47219 | S35: =T34 -> 117.99586 | T35: =S35*(1+$E35) -> 112.35094
A36: 43434 | B36: JNK,SHY | C36: 40.0000%,60.0000% | D36: -0.00071 | E36: 0.01285 | M36: =N35 -> 99.944204 | N36: =M36*(1+$D36) -> 99.873244 | P36: =Q35 -> 125.47219 | Q36: =P36*(1+$D36) -> 125.38311 | S36: =T35 -> 112.35094 | T36: =S36*(1+$E36) -> 113.79465
A37: 43465 | B37: JNK,SHY | C37: 40.0000%,60.0000% | D37: -0.00474 | E37: -0.03233 | M37: =N36 -> 99.873244 | N37: =M37*(1+$D37) -> 99.399844 | P37: =Q36 -> 125.38311 | Q37: =P37*(1+$D37) -> 124.78879 | S37: =T36 -> 113.79465 | T37: =S37*(1+$E37) -> 110.11567
A38: 43496 | B38: SHY,TLT | C38: 60.0000%,40.0000% | D38: 0.003021 | E38: 0.048136 | M38: =N37 -> 99.399844 | N38: =M38*(1+$D38) -> 99.700131 | P38: =Q37 -> 124.78879 | Q38: =P38*(1+$D38) -> 125.16578 | S38: =T37 -> 110.11567 | T38: =S38*(1+$E38) -> 115.4162
A39: 43524 | B39: QQQ,TLT | C39: 60.0000%,40.0000% | D39: 0.012446 | E39: 0.016189 | M39: =N38 -> 99.700131 | N39: =M39*(1+$D39) -> 100.941 | P39: =Q38 -> 125.16578 | Q39: =P39*(1+$D39) -> 126.72359 | S39: =T38 -> 115.4162 | T39: =S39*(1+$E39) -> 117.28467
A40: 43553 | B40: QQQ,TLT | C40: 60.0000%,40.0000% | D40: 0.045918 | E40: 0.017712 | M40: =N39 -> 100.941 | N40: =M40*(1+$D40) -> 105.57601 | P40: =Q39 -> 126.72359 | Q40: =P40*(1+$D40) -> 132.54249 | S40: =T39 -> 117.28467 | T40: =S40*(1+$E40) -> 119.36202
...

Sheet Quant 6040 Stats
A1: End Date | B1: Portfolio | C1: Starting Weights | D1: Return | E1: Bench Return | F1: Portfolio | H1: Benchmark
A2: 44212 | B2: QQQ,TLT | C2: 60.0000%,40.0000% | D2: -0.01917 | E2: -0.02039 | F2: 100 | G2: =F2*(1+D2) -> 98.083 | H2: 100 | I2: =H2*(1+E2) -> 97.961
A3: 44243 | B3: SHY,TLT | C3: 60.0000%,40.0000% | D3: 0.013019 | E3: -0.00409 | F3: =G2 -> 98.083 | G3: =F3*(1+D3) -> 99.359943 | H3: =I2 -> 97.961 | I3: =H3*(1+E3) -> 97.56034
A4: 44271 | B4: SHY,TLT | C4: 60.0000%,40.0000% | D4: 0.000467 | E4: 0.040823 | F4: =G3 -> 99.359943 | G4: =F4*(1+D4) -> 99.406344 | H4: =I3 -> 97.56034 | I4: =H4*(1+E4) -> 101.54305
A5: 44302 | B5: MDY,TLT | C5: 60.0000%,40.0000% | D5: 0.004201 | E5: 0.008017 | F5: =G4 -> 99.406344 | G5: =F5*(1+D5) -> 99.82395 | H5: =I4 -> 101.54305 | I5: =H5*(1+E5) -> 102.35712
A6: 44332 | B6: JNK,MDY | C6: 40.0000%,60.0000% | D6: 0.014737 | E6: 0.004552 | F6: =G5 -> 99.82395 | G6: =F6*(1+D6) -> 101.29506 | H6: =I5 -> 102.35712 | I6: =H6*(1+E6) -> 102.82305
A7: 44363 | B7: IWM,JNK | C7: 60.0000%,40.0000% | D7: 0.00728 | E7: 0.005927 | F7: =G6 -> 101.29506 | G7: =F7*(1+D7) -> 102.03248 | H7: =I6 -> 102.82305 | I7: =H7*(1+E7) -> 103.43248
A8: 44393 | B8: IWM,TLT | C8: 60.0000%,40.0000% | D8: 0.043622 | E8: 0.024804 | F8: =G7 -> 102.03248 | G8: =F8*(1+D8) -> 106.48334 | H8: =I7 -> 103.43248 | I8: =H8*(1+E8) -> 105.99802
A9: 44424 | B9: QQQ,TLT | C9: 60.0000%,40.0000% | D9: 0.002255 | E9: -0.00179 | F9: =G8 -> 106.48334 | G9: =F9*(1+D9) -> 106.72346 | H9: =I8 -> 105.99802 | I9: =H9*(1+E9) -> 105.80828
A10: 44455 | B10: IWM,TLT | C10: 60.0000%,40.0000% | D10: 0.000427 | E10: 0.005581 | F10: =G9 -> 106.72346 | G10: =F10*(1+D10) -> 106.76904 | H10: =I9 -> 105.80828 | I10: =H10*(1+E10) -> 106.3988
A11: 44485 | B11: JNK,QQQ | C11: 40.0000%,60.0000% | D11: -0.01174 | E11: -0.0192 | F11: =G10 -> 106.76904 | G11: =F11*(1+D11) -> 105.51557 | H11: =I10 -> 106.3988 | I11: =H11*(1+E11) -> 104.35594
A12: 44516 | B12: JNK,QQQ | C12: 40.0000%,60.0000% | D12: 0.003127 | E12: -0.00878 | F12: =G11 -> 105.51557 | G12: =F12*(1+D12) -> 105.84551 | H12: =I11 -> 104.35594 | I12: =H12*(1+E12) -> 103.43969
A13: 44546 | B13: IWM,JNK | C13: 60.0000%,40.0000% | D13: 0.02502 | E13: 0.0136 | F13: =G12 -> 105.84551 | G13: =F13*(1+D13) -> 108.49377 | H13: =I12 -> 103.43969 | I13: =H13*(1+E13) -> 104.84647
A14: 44213 | B14: IWM,JNK | C14: 60.0000%,40.0000% | D14: 0.006739 | E14: 0.016317 | F14: =G13 -> 108.49377 | G14: =F14*(1+D14) -> 109.22491 | H14: =I13 -> 104.84647 | I14: =H14*(1+E14) -> 106.55725
... A20: 44394 | B20: QQQ,TLT | C20: 60.0000%,40.0000% | D20: 0.021736 | E20: 0.015103 | F20: =G19 -> 116.86106 | G20: =F20*(1+D20) -> 119.40115 | H20: =I19 -> 113.24582 | I20: =H20*(1+E20) -> 114.95617
A21: 44425 | B21: QQQ,TLT | C21: 60.0000%,40.0000% | D21: 0.026069 | E21: 0.006144 | F21: =G20 -> 119.40115 | G21: =F21*(1+D21) -> 122.51382 | H21: =I20 -> 114.95617 | I21: =H21*(1+E21) -> 115.66246 | L21: YTD Return | M21: 1yr Return | N21: 3yr Return | O21: 5yr Return
A22: 44456 | B22: QQQ,TLT | C22: 60.0000%,40.0000% | D22: -0.01104 | E22: 0.008652 | F22: =G21 -> 122.51382 | G22: =F22*(1+D22) -> 121.16127 | H22: =I21 -> 115.66246 | I22: =H22*(1+E22) -> 116.66318 | K22: Quant 60/40 | L22: =(G72-F62)/F62 -> 0.21564176 | M22: =(G72-F61)/F61 -> 0.28904707 | N22: =(G72-F36)/F36 -> 0.93375905 | O22: =(G72-F12)/F12 -> 1.3462364
A23: 44486 | B23: JNK,QQQ | C23: 40.0000%,60.0000% | D23: 0.028463 | E23: 0.01079 | F23: =G22 -> 121.16127 | G23: =F23*(1+D23) -> 124.60988 | H23: =I22 -> 116.66318 | I23: =H23*(1+E23) -> 117.92197 | K23: All World 60/40 (Benchmark) | L23: =(I72-H62)/H62 -> 0.044900508 | M23: =(I72-H61)/H61 -> 0.074281021 | N23: =(I70-H34)/H34 -> 0.33049972 | O23: =(I72-H12)/H12 -> 0.54303727
A24: 44517 | B24: IWM,JNK | C24: 60.0000%,40.0000% | D24: 0.016244 | E24: 0.010042 | F24: =G23 -> 124.60988 | G24: =F24*(1+D24) -> 126.63405 | H24: =I23 -> 117.92197 | I24: =H24*(1+E24) -> 119.10614 | K24: SPY (Benchmark) | L24: ='Quant Rotation Monthly Returns'!L24 -> 0.15916039 | M24: ='Quant Rotation Monthly Returns'!M24 -> 0.25115869 | N24: ='Quant Rotation Monthly Returns'!N24 -> 0.56656026 | O24: ='Quant Rotation Monthly Returns'!O24 -> 1.17491
A25: 44547 | B25: IWM,JNK | C25: 60.0000%,40.0000% | D25: -0.0012 | E25: 0.008272 | F25: =G24 -> 126.63405 | G25: =F25*(1+D25) -> 126.48209 | H25: =I24 -> 119.10614 | I25: =H25*(1+E25) -> 120.09139
A26: 44214 | B26: QQQ,TLT | C26: 60.0000%,40.0000% | D26: 0.03952 | E26: 0.022155 | F26: =G25 -> 126.48209 | G26: =F26*(1+D26) -> 131.48066 | H26: =I25 -> 120.09139 | I26: =H26*(1+E26) -> 122.75202
A27: 44245 | B27: JNK,QQQ | C27: 40.0000%,60.0000% | D27: -0.01136 | E27: -0.02951 | F27: =G26 -> 131.48066 | G27: =F27*(1+D27) -> 129.98704 | H27: =I26 -> 122.75202 | I27: =H27*(1+E27) -> 119.1296
A28: 44273 | B28: JNK,QQQ | C28: 40.0000%,60.0000% | D28: -0.02663 | E28: -0.00376 | F28: =G27 -> 129.98704 | G28: =F28*(1+D28) -> 126.52548 | H28: =I27 -> 119.1296 | I28: =H28*(1+E28) -> 118.68168
A29: 44304 | B29: JNK,QQQ | C29: 40.0000%,60.0000% | D29: 0.004943 | E29: 0.000805 | F29: =G28 -> 126.52548 | G29: =F29*(1+D29) -> 127.1509 | H29: =I28 -> 118.68168 | I29: =H29*(1+E29) -> 118.77721
A30: 44334 | B30: JNK,SHY | C30: 40.0000%,60.0000% | D30: 0.001136 | E30: 0.006428 | F30: =G29 -> 127.1509 | G30: =F30*(1+D30) -> 127.29534 | H30: =I29 -> 118.77721 | I30: =H30*(1+E30) -> 119.54071
A31: 44365 | B31: IWM,TLT | C31: 60.0000%,40.0000% | D31: 0.006273 | E31: -0.0018 | F31: =G30 -> 127.29534 | G31: =F31*(1+D31) -> 128.09386 | H31: =I30 -> 119.54071 | I31: =H31*(1+E31) -> 119.32554
A32: 44395 | B32: JNK,QQQ | C32: 40.0000%,60.0000% | D32: 0.023866 | E32: 0.016399 | F32: =G31 -> 128.09386 | G32: =F32*(1+D32) -> 131.15095 | H32: =I31 -> 119.32554 | I32: =H32*(1+E32) -> 121.28236
A33: 44426 | B33: JNK,QQQ | C33: 40.0000%,60.0000% | D33: 0.037157 | E33: 0.007647 | F33: =G32 -> 131.15095 | G33: =F33*(1+D33) -> 136.02413 | H33: =I32 -> 121.28236 | I33: =H33*(1+E33) -> 122.20981
A34: 44457 | B34: JNK,QQQ | C34: 40.0000%,60.0000% | D34: 0.00077 | E34: -0.00134 | F34: =G33 -> 136.02413 | G34: =F34*(1+D34) -> 136.12887 | H34: =I33 -> 122.20981 | I34: =H34*(1+E34) -> 122.04605
A35: 44487 | B35: JNK,QQQ | C35: 40.0000%,60.0000% | D35: -0.05955 | E35: -0.04784 | F35: =G34 -> 136.12887 | G35: =F35*(1+D35) -> 128.02239 | H35: =I34 -> 122.04605 | I35: =H35*(1+E35) -> 116.20736
A36: 44518 | B36: JNK,SHY | C36: 40.0000%,60.0000% | D36: -0.00071 | E36: 0.01285 | F36: =G35 -> 128.02239 | G36: =F36*(1+D36) -> 127.9315 | H36: =I35 -> 116.20736 | I36: =H36*(1+E36) -> 117.70063
... A72: 44530 | B72: QQQ, JNK | C72: 60.0000%,40.0000% | D72: 0.0068 | E72: -0.008 | F72: =G71 -> 245.89239 | G72: =F72*(1+D72) -> 247.56446 | H72: =I71 -> 162.32369 | I72: =H72*(1+E72) -> 161.0251

Sheet Quant 6040 Ledger
D1: Price | E1: Shares | F1: Cost | G1: % of Portfolio | H1: Cash Balance
H2: 10000
A3: 44200 | B3: BUY | C3: IWM | D3: 193.5 | E3: =($H$2*0.6)/D3 -> 31.007752 | F3: =-E3*D3 -> -6000 | G3: =F3/$H$2 -> -0.6 | H3: =H2+F3 -> 4000
A4: 44200 | B4: BUY | C4: JNK | D4: 108.67 | E4: =($H$2*0.4)/D4 -> 36.808687 | F4: =-E4*D4 -> -4000 | G4: =F4/$H$2 -> -0.4 | H4: =H3+F4 -> 0
A5: 44228 | B5: SELL | C5: IWM | D5: 210.61 | E5: 31.007752 | F5: =+E5*D5 -> 6530.5426 | G5: =F5/$H$2 -> 0.65305426 | H5: =H4+F5 -> 6530.5426
A6: 44228 | B6: SELL | C6: JNK | D6: 108.45 | E6: 36.808687 | F6: =+E6*D6 -> 3991.9021 | G6: =F6/$H$2 -> 0.39919021 | H6: =H5+F6 -> 10522.445 | I6: =(H6-H2)/H2 -> 0.052244472
A7: 44228 | B7: BUY | C7: IWM | D7: 210.61 | E7: =($H$6*0.6)/D7 -> 29.977052 | F7: =-E7*D7 -> -6313.4668 | G7: =F7/$H$6 -> -0.6 | H7: =H6+F7 -> 4208.9779
A8: 44228 | B8: BUY | C8: JNK | D8: 108.45 | E8: =($H$6*0.4)/D8 -> 38.810308 | F8: =-E8*D8 -> -4208.9779 | G8: =F8/$H$6 -> -0.4 | H8: =H7+F8 -> 0
A9: 44256 | B9: SELL | C9: IWM | D9: 226.07 | E9: 29.977052 | F9: =+E9*D9 -> 6776.9121 | G9: =F9/$H$6 -> 0.64404349 | H9: =H8+F9 -> 6776.9121
A10: 44256 | B10: SELL | C10: JNK | D10: 108.82 | E10: 38.810308 | F10: =+E10*D10 -> 4223.3377 | G10: =F10/$H$6 -> 0.40136468 | H10: =H9+F10 -> 11000.25 | I10: =(H10-H6)/H6 -> 0.045408177
A11: 44256 | B11: BUY | C11: IWM | D11: 226.07 | E11: =($H$10*0.6)/D11 -> 29.19516 | F11: =-E11*D11 -> -6600.1499 | G11: =F11/$H$10 -> -0.6 | H11: =H10+F11 -> 4400.0999
A12: 44256 | B12: BUY | C12: JNK | D12: 108.82 | E12: =($H$10*0.4)/D12 -> 40.434662 | F12: =-E12*D12 -> -4400.0999 | G12: =F12/$H$10 -> -0.4 | H12: =H11+F12 -> 0
A13: 44287 | B13: SELL | C13: IWM | D13: 223.74 | E13: 29.19516 | F13: =+E13*D13 -> 6532.1251 | G13: =F13/$H$10 -> 0.59381607 | H13: =H12+F13 -> 6532.1251
A14: 44287 | B14: SELL | C14: JNK | D14: 108.64 | E14: 40.434662 | F14: =+E14*D14 -> 4392.8217 | G14: =F14/$H$10 -> 0.39933836 | H14: =H13+F14 -> 10924.947 | I14: =(H14-H10)/H10 -> -0.0068455684
A15: 44287 | B15: BUY | C15: MDY | D15: 482.3 | E15: =($H$14*0.6)/D15 -> 13.59106 | F15: =-E15*D15 -> -6554.9681 | G15: =F15/$H$14 -> -0.6 | H15: =H14+F15 -> 4369.9787
A16: 44287 | B16: BUY | C16: JNK | D16: 108.64 | E16: =($H$14*0.4)/D16 -> 40.224399 | F16: =-E16*D16 -> -4369.9787 | G16: =F16/$H$14 -> -0.4 | H16: =H15+F16 -> 0
A17: 44319 | B17: SELL | C17: MDY | D17: 499.54 | E17: 13.59106 | F17: =+E17*D17 -> 6789.2779 | G17: =F17/$H$10 -> 0.61719307 | H17: =H16+F17 -> 6789.2779
A18: 44320 | B18: SELL | C18: JNK | D18: 108.81 | E18: 40.224399 | F18: =+E18*D18 -> 4376.8169 | G18: =F18/$H$10 -> 0.39788341 | H18: =H17+F18 -> 11166.095 | I18: =(H18-H14)/H14 -> 0.022073152
A19: 44321 | B19: BUY | C19: MDY | D19: 499.54 | E19: =($H$18*0.6)/D19 -> 13.411652 | F19: =-E19*D19 -> -6699.6569 | G19: =F19/$H$14 -> -0.61324389 | H19: =H18+F19 -> 4466.4379
A20: 44322 | B20: BUY | C20: JNK | D20: 108.81 | E20: =($H$18*0.4)/D20 -> 41.048046 | F20: =-E20*D20 -> -4466.4379 | G20: =F20/$H$14 -> -0.40882926 | H20: =H19+F20 -> 0

Sheet GARP Ledger
D1: Price | E1: Shares | F1: Cost | G1: % of Portfolio | H1: Cash Balance
H2: 10000
A3: 44200 | B3: BUY | C3: FLGT | D3: 59.3 | E3: 8.4317032 | F3: =-D3*E3 -> -500 | G3: =F3/$H$2 -> -0.05 | H3: =H2+F3 -> 9500
A4: 44200 | B4: BUY | C4: OMI | D4: 28.6 | E4: 17.482517 | F4: =-D4*E4 -> -500 | G4: =F4/$H$2 -> -0.05 | H4: =H3+F4 -> 9000
A5: 44200 | B5: BUY | C5: LAZY | D5: 16.38 | E5: 30.525031 | F5: =-D5*E5 -> -500 | G5: =F5/$H$2 -> -0.05 | H5: =H4+F5 -> 8500
A6: 44200 | B6: BUY | C6: LEU | D6: 21.34 | E6: 23.430178 | F6: =-D6*E6 -> -500 | G6: =F6/$H$2 -> -0.05 | H6: =H5+F6 -> 8000
A7: 44200 | B7: BUY | C7: NLS | D7: 18.61 | E7: 26.867276 | F7: =-D7*E7 -> -500 | G7: =F7/$H$2 -> -0.05 | H7: =H6+F7 -> 7500
A8: 44200 | B8: BUY | C8: GSL | D8: 11.75 | E8: 42.553191 | F8: =-D8*E8 -> -500 | G8: =F8/$H$2 -> -0.05 | H8: =H7+F8 -> 7000
A9: 44200 | B9: BUY | C9: UMC | D9: 8.01 | E9: 62.421973 | F9: =-D9*E9 -> -500 | G9: =F9/$H$2 -> -0.05 | H9: =H8+F9 -> 6500
A10: 44200 | B10: BUY | C10: SMTS | D10: 3.32 | E10: 150.60241 | F10: =-D10*E10 -> -500 | G10: =F10/$H$2 -> -0.05 | H10: =H9+F10 -> 6000
A11: 44200 | B11: BUY | C11: VICI | D11: 24.65 | E11: 20.283976 | F11: =-D11*E11 -> -500 | G11: =F11/$H$2 -> -0.05 | H11: =H10+F11 -> 5500
A12: 44200 | B12: BUY | C12: HZO | D12: 34.74 | E12: 14.392631 | F12: =-D12*E12 -> -500 | G12: =F12/$H$2 -> -0.05 | H12: =H11+F12 -> 5000
A13: 44200 | B13: BUY | C13: CTRE | D13: 21.42 | E13: 23.34267 | F13: =-D13*E13 -> -500 | G13: =F13/$H$2 -> -0.05 | H13: =H12+F13 -> 4500
A14: 44200 | B14: BUY | C14: VSTO | D14: 24.19 | E14: 20.669698 | F14: =-D14*E14 -> -500 | G14: =F14/$H$2 -> -0.05 | H14: =H13+F14 -> 4000
... A21: 44200 | B21: BUY | C21: IMPUY | D21: 14.6 | E21: 34.246575 | F21: =-D21*E21 -> -500 | G21: =F21/$H$2 -> -0.05 | H21: =H20+F21 -> 500
A22: 44287 | B22: SELL | C22: FLGT | D22: 100.45 | E22: 8.4317032 | F22: =+D22*E22 -> 846.96459 | G22: =F22/$H$2 -> 0.084696459 | H22: =H21+F22 -> 1346.9646
A23: 44287 | B23: SELL | C23: OMI | D23: 37.97 | E23: 17.482517 | F23: =+D23*E23 -> 663.81119 | G23: =F23/$H$2 -> 0.066381119 | H23: =H22+F23 -> 2010.7758
A24: 44287 | B24: SELL | C24: LAZY | D24: 18.38 | E24: 30.525031 | F24: =+D24*E24 -> 561.05006 | G24: =F24/$H$2 -> 0.056105006 | H24: =H23+F24 -> 2571.8258
A25: 44287 | B25: SELL | C25: LEU | D25: 24.03 | E25: 23.430178 | F25: =+D25*E25 -> 563.02718 | G25: =F25/$H$2 -> 0.056302718 | H25: =H24+F25 -> 3134.853
A26: 44287 | B26: SELL | C26: NLS | D26: 16.3 | E26: 26.867276 | F26: =+D26*E26 -> 437.93659 | G26: =F26/$H$2 -> 0.043793659 | H26: =H25+F26 -> 3572.7896
A27: 44287 | B27: SELL | C27: GSL | D27: 14.76 | E27: 42.553191 | F27: =+D27*E27 -> 628.08511 | G27: =F27/$H$2 -> 0.062808511 | H27: =H26+F27 -> 4200.8747
A28: 44287 | B28: SELL | C28: UMC | D28: 9.26 | E28: 62.421973 | F28: =+D28*E28 -> 578.02747 | G28: =F28/$H$2 -> 0.057802747 | H28: =H27+F28 -> 4778.9022
A29: 44287 | B29: SELL | C29: SMTS | D29: 3.16 | E29: 150.60241 | F29: =+D29*E29 -> 475.90361 | G29: =F29/$H$2 -> 0.047590361 | H29: =H28+F29 -> 5254.8058
A30: 44287 | B30: SELL | C30: VICI | D30: 28.84 | E30: 20.283976 | F30: =+D30*E30 -> 584.98986 | G30: =F30/$H$2 -> 0.058498986 | H30: =H29+F30 -> 5839.7957
A31: 44287 | B31: SELL | C31: HZO | D31: 49.89 | E31: 14.392631 | F31: =+D31*E31 -> 718.04836 | G31: =F31/$H$2 -> 0.071804836 | H31: =H30+F31 -> 6557.844
A32: 44287 | B32: SELL | C32: CTRE | D32: 24.28 | E32: 23.34267 | F32: =+D32*E32 -> 566.76004 | G32: =F32/$H$2 -> 0.056676004 | H32: =H31+F32 -> 7124.6041
A33: 44287 | B33: SELL | C33: VSTO | D33: 32.33 | E33: 20.669698 | F33: =+D33*E33 -> 668.25134 | G33: =F33/$H$2 -> 0.066825134 | H33: =H32+F33 -> 7792.8554
... A40: 44287 | B40: SELL | C40: IMPUY | D40: 19.2 | E40: 34.246575 | F40: =+D40*E40 -> 657.53425 | G40: =F40/$H$2 -> 0.065753425 | H40: =H39+F40 -> 11919.572
A41: 44287 | B41: BUY | C41: DAC | D41: 50.97 | E41: =($H$40*0.05)/D41 -> 11.692733 | F41: =-E41*D41 -> -595.97862 | G41: =F41/$H$2 -> -0.059597862 | H41: =H40+F41 -> 11323.594
A42: 44287 | B42: BUY | C42: FLGT | D42: 100.45 | E42: =($H$40*0.05)/D42 -> 5.9330873 | F42: =-E42*D42 -> -595.97862 | G42: =F42/$H$2 -> -0.059597862 | H42: =H41+F42 -> 10727.615
A43: 44287 | B43: BUY | C43: NMM | D43: 23.52 | E43: =($H$40*0.05)/D43 -> 25.339227 | F43: =-E43*D43 -> -595.97862 | G43: =F43/$H$2 -> -0.059597862 | H43: =H42+F43 -> 10131.636
A44: 44287 | B44: BUY | C44: BCS | D44: 10.19 | E44: =($H$40*0.05)/D44 -> 58.486616 | F44: =-E44*D44 -> -595.97862 | G44: =F44/$H$2 -> -0.059597862 | H44: =H43+F44 -> 9535.6579
A45: 44287 | B45: BUY | C45: IMPUY | D45: 19.2 | E45: =($H$40*0.05)/D45 -> 31.040553 | F45: =-E45*D45 -> -595.97862 | G45: =F45/$H$2 -> -0.059597862 | H45: =H44+F45 -> 8939.6792
A46: 44287 | B46: BUY | C46: VALE | D46: 17.12 | E46: =($H$40*0.05)/D46 -> 34.811835 | F46: =-E46*D46 -> -595.97862 | G46: =F46/$H$2 -> -0.059597862 | H46: =H45+F46 -> 8343.7006
A47: 44287 | B47: BUY | C47: DQ | D47: 75.19 | E47: =($H$40*0.05)/D47 -> 7.9263016 | F47: =-E47*D47 -> -595.97862 | G47: =F47/$H$2 -> -0.059597862 | H47: =H46+F47 -> 7747.722
A48: 44287 | B48: BUY | C48: LB | D48: 61.8 | E48: =($H$40*0.05)/D48 -> 9.6436669 | F48: =-E48*D48 -> -595.97862 | G48: =F48/$H$2 -> -0.059597862 | H48: =H47+F48 -> 7151.7434
A49: 44287 | B49: BUY | C49: GSL | D49: 14.76 | E49: =($H$40*0.05)/D49 -> 40.377955 | F49: =-E49*D49 -> -595.97862 | G49: =F49/$H$2 -> -0.059597862 | H49: =H48+F49 -> 6555.7648
A50: 44287 | B50: BUY | C50: SBSW | D50: 18.43 | E50: =($H$40*0.05)/D50 -> 32.337418 | F50: =-E50*D50 -> -595.97862 | G50: =F50/$H$2 -> -0.059597862 | H50: =H49+F50 -> 5959.7862
A51: 44287 | B51: BUY | C51: TX | D51: 39.07 | E51: =($H$40*0.05)/D51 -> 15.254124 | F51: =-E51*D51 -> -595.97862 | G51: =F51/$H$2 -> -0.059597862 | H51: =H50+F51 -> 5363.8075
A52: 44287 | B52: BUY | C52: BCEI | D52: 38.25 | E52: =($H$40*0.05)/D52 -> 15.58114 | F52: =-E52*D52 -> -595.97862 | G52: =F52/$H$2 -> -0.059597862 | H52: =H51+F52 -> 4767.8289
...

Sheet PowerStocks Ledger
D1: Price | E1: Shares | F1: Cost | G1: % of Portfolio | H1: Cash Balance
H2: 10000
A3: 44200 | B3: BUY | C3: SMTS | D3: 3.32 | E3: 150.60241 | F3: =-D3*E3 -> -500 | G3: =F3/$H$2 -> -0.05 | H3: =H2+F3 -> 9500
A4: 44200 | B4: BUY | C4: SCCO | D4: 67.27 | E4: 7.4327338 | F4: =-D4*E4 -> -500 | G4: =F4/$H$2 -> -0.05 | H4: =H3+F4 -> 9000
A5: 44200 | B5: BUY | C5: ALGN | D5: 526.46 | E5: 0.94973977 | F5: =-D5*E5 -> -500 | G5: =F5/$H$2 -> -0.05 | H5: =H4+F5 -> 8500
A6: 44200 | B6: BUY | C6: SMLR | D6: 91.78 | E6: 5.44781 | F6: =-D6*E6 -> -500 | G6: =F6/$H$2 -> -0.05 | H6: =H5+F6 -> 8000
A7: 44200 | B7: BUY | C7: CMBM | D7: 23.54 | E7: 21.240442 | F7: =-D7*E7 -> -500 | G7: =F7/$H$2 -> -0.05 | H7: =H6+F7 -> 7500
A8: 44200 | B8: BUY | C8: JAGGF | D8: 6.67 | E8: 74.962519 | F8: =-D8*E8 -> -500 | G8: =F8/$H$2 -> -0.05 | H8: =H7+F8 -> 7000
A9: 44200 | B9: BUY | C9: APPS | D9: 52.32 | E9: 9.5565749 | F9: =-D9*E9 -> -500 | G9: =F9/$H$2 -> -0.05 | H9: =H8+F9 -> 6500
A10: 44200 | B10: BUY | C10: HALO | D10: 42.41 | E10: 11.789672 | F10: =-D10*E10 -> -500 | G10: =F10/$H$2 -> -0.05 | H10: =H9+F10 -> 6000
A11: 44200 | B11: BUY | C11: VALE | D11: 17.4 | E11: 28.735632 | F11: =-D11*E11 -> -500 | G11: =F11/$H$2 -> -0.05 | H11: =H10+F11 -> 5500
A12: 44200 | B12: BUY | C12: VRTS | D12: 212.63 | E12: 2.3515026 | F12: =-D12*E12 -> -500 | G12: =F12/$H$2 -> -0.05 | H12: =H11+F12 -> 5000
A13: 44200 | B13: BUY | C13: OMF | D13: 47 | E13: 10.638298 | F13: =-D13*E13 -> -500 | G13: =F13/$H$2 -> -0.05 | H13: =H12+F13 -> 4500
A14: 44200 | B14: BUY | C14: SID | D14: 6.42 | E14: 77.88162 | F14: =-D14*E14 -> -500 | G14: =F14/$H$2 -> -0.05 | H14: =H13+F14 -> 4000
... A22: 44200 | B22: BUY | C22: EVR | D22: 108.08 | E22: 4.6262028 | F22: =-D22*E22 -> -500 | G22: =F22/$H$2 -> -0.05 | H22: =H21+F22 -> 0
A23: 44287 | B23: SELL | C23: SMTS | D23: 3.16 | E23: 150.60241 | F23: =D23*E23 -> 475.90361 | G23: =F23/$H$2 -> 0.047590361 | H23: =H22+F23 -> 475.90361
A24: 44287 | B24: SELL | C24: SCCO | D24: 69.41 | E24: 7.4327338 | F24: =D24*E24 -> 515.90605 | G24: =F24/$H$2 -> 0.051590605 | H24: =H23+F24 -> 991.80966
A25: 44287 | B25: SELL | C25: ALGN | D25: 545.05 | E25: 0.94973977 | F25: =D25*E25 -> 517.65566 | G25: =F25/$H$2 -> 0.051765566 | H25: =H24+F25 -> 1509.4653
A26: 44287 | B26: SELL | C26: SMLR | D26: 107.25 | E26: 5.44781 | F26: =D26*E26 -> 584.27762 | G26: =F26/$H$2 -> 0.058427762 | H26: =H25+F26 -> 2093.7429
A27: 44287 | B27: SELL | C27: CMBM | D27: 48.48 | E27: 21.240442 | F27: =D27*E27 -> 1029.7366 | G27: =F27/$H$2 -> 0.10297366 | H27: =H26+F27 -> 3123.4796
A28: 44287 | B28: SELL | C28: JAGGF | D28: 5.26 | E28: 74.962519 | F28: =D28*E28 -> 394.30285 | G28: =F28/$H$2 -> 0.039430285 | H28: =H27+F28 -> 3517.7824
A29: 44287 | B29: SELL | C29: APPS | D29: 82.27 | E29: 9.5565749 | F29: =D29*E29 -> 786.21942 | G29: =F29/$H$2 -> 0.078621942 | H29: =H28+F29 -> 4304.0018
A30: 44287 | B30: SELL | C30: HALO | D30: 42.43 | E30: 11.789672 | F30: =D30*E30 -> 500.23579 | G30: =F30/$H$2 -> 0.050023579 | H30: =H29+F30 -> 4804.2376
A31: 44287 | B31: SELL | C31: VALE | D31: 17.12 | E31: 28.735632 | F31: =D31*E31 -> 491.95402 | G31: =F31/$H$2 -> 0.049195402 | H31: =H30+F31 -> 5296.1916
A32: 44287 | B32: SELL | C32: VRTS | D32: 240.95 | E32: 2.3515026 | F32: =D32*E32 -> 566.59455 | G32: =F32/$H$2 -> 0.056659455 | H32: =H31+F32 -> 5862.7862
A33: 44287 | B33: SELL | C33: OMF | D33: 54.99 | E33: 10.638298 | F33: =D33*E33 -> 585 | G33: =F33/$H$2 -> 0.0585 | H33: =H32+F33 -> 6447.7862
A34: 44287 | B34: SELL | C34: SID | D34: 6.44 | E34: 77.88162 | F34: =D34*E34 -> 501.55763 | G34: =F34/$H$2 -> 0.050155763 | H34: =H33+F34 -> 6949.3438
... A42: 44287 | B42: SELL | C42: EVR | D42: 135.81 | E42: 4.6262028 | F42: =D42*E42 -> 628.2846 | G42: =F42/$H$2 -> 0.06282846 | H42: =H41+F42 -> 11565.537
A43: 44287 | B43: BUY | C43: IMPUY | D43: 19.2 | E43: =($H$42*0.05)/D43 -> 30.118586 | F43: =-E43*D43 -> -578.27685 | G43: =F43/$H$2 -> -0.057827685 | H43: =H42+F43 -> 10987.26
A44: 44287 | B44: BUY | C44: WAL | D44: 94.37 | E44: =($H$42*0.05)/D44 -> 6.1277614 | F44: =-E44*D44 -> -578.27685 | G44: =F44/$H$2 -> -0.057827685 | H44: =H43+F44 -> 10408.983
A45: 44287 | B45: BUY | C45: GTBIF | D45: 29 | E45: =($H$42*0.05)/D45 -> 19.940581 | F45: =-E45*D45 -> -578.27685 | G45: =F45/$H$2 -> -0.057827685 | H45: =H44+F45 -> 9830.7064
A46: 44287 | B46: BUY | C46: DQ | D46: 75.19 | E46: =($H$42*0.05)/D46 -> 7.6908744 | F46: =-E46*D46 -> -578.27685 | G46: =F46/$H$2 -> -0.057827685 | H46: =H45+F46 -> 9252.4295
A47: 44287 | B47: BUY | C47: COWN | D47: 36.11 | E47: =($H$42*0.05)/D47 -> 16.014313 | F47: =-E47*D47 -> -578.27685 | G47: =F47/$H$2 -> -0.057827685 | H47: =H46+F47 -> 8674.1527
A48: 44287 | B48: BUY | C48: ANGPY | D48: 25 | E48: =($H$42*0.05)/D48 -> 23.131074 | F48: =-E48*D48 -> -578.27685 | G48: =F48/$H$2 -> -0.057827685 | H48: =H47+F48 -> 8095.8759
A49: 44287 | B49: BUY | C49: FCX | D49: 33.76 | E49: =($H$42*0.05)/D49 -> 17.129054 | F49: =-E49*D49 -> -578.27685 | G49: =F49/$H$2 -> -0.057827685 | H49: =H48+F49 -> 7517.599
A50: 44287 | B50: BUY | C50: APPS | D50: 82.27 | E50: =($H$42*0.05)/D50 -> 7.0290124 | F50: =-E50*D50 -> -578.27685 | G50: =F50/$H$2 -> -0.057827685 | H50: =H49+F50 -> 6939.3222
A51: 44287 | B51: BUY | C51: SONO | D51: 38.96 | E51: =($H$42*0.05)/D51 -> 14.842835 | F51: =-E51*D51 -> -578.27685 | G51: =F51/$H$2 -> -0.057827685 | H51: =H50+F51 -> 6361.0453
A52: 44287 | B52: BUY | C52: SSP | D52: 19.74 | E52: =($H$42*0.05)/D52 -> 29.294673 | F52: =-E52*D52 -> -578.27685 | G52: =F52/$H$2 -> -0.057827685 | H52: =H51+F52 -> 5782.7685
A53: 44287 | B53: BUY | C53: INMD | D53: 75.86 | E53: =($H$42*0.05)/D53 -> 7.6229481 | F53: =-E53*D53 -> -578.27685 | G53: =F53/$H$2 -> -0.057827685 | H53: =H52+F53 -> 5204.4916
A54: 44287 | B54: BUY | C54: ZDGE | D54: 12.29 | E54: =($H$42*0.05)/D54 -> 47.052632 | F54: =-E54*D54 -> -578.27685 | G54: =F54/$H$2 -> -0.057827685 | H54: =H53+F54 -> 4626.2148
...

Sheet ETF Rotation STATS
A2: WEIGHTS (40,30,30) | C2: 05-'19 | H2: 10-'20 | M2: 15-'20
C3: Total Return | D3: CAGR | E3: VOL | F3: Max DD | H3: Total Return | I3: CAGR | J3: VOL | K3: Max DD | M3: Total Return | N3: CAGR | O3: VOL | P3: Max DD
A4: American Muscle | B4: Original + | C4: 10.562 | D4: 0.178 | E4: 0.148 | F4: 0.312 | G4: 0.552 | H4: 8.524 | I4: 0.228 | J4: 0.147 | K4: 0.151 | L4: 0.337 | M4: 2.698 | N4: 0.244 | O4: 0.156 | P4: 0.151 | Q4: 0.337
A5: American Muscle2 | B5: Adds IWM & XLG | C5: 10.516 | D5: 0.177 | E5: 0.15 | F5: 0.286 | H5: 8.739 | I5: 0.23 | J5: 0.149 | K5: 0.159 | M5: 2.524 | N5: 0.234 | O5: 0.157 | P5: 0.159
A6: American Muscle3 | B6: ADD IWM | C6: 10.645 | D6: 0.178 | E6: 0.15 | F6: 0.309 | H6: 9.433 | I6: 0.238 | J6: 0.149 | K6: 0.151 | M6: 2.681 | N6: 0.243 | O6: 0.158 | P6: 0.151
A7: American Muscle4 | B7: ADD IWM and SPGP | C7: 10.895 | D7: 0.18 | E7: 0.15 | F7: 0.309 | H7: 10.286 | I7: 0.247 | J7: 0.149 | K7: 0.148 | M7: 2.977 | N7: 0.259 | O7: 0.158 | P7: 0.148
A8: American Muscle5 | B8: ADD - VBR & VBK | C8: 9.282 | D8: 0.168 | E8: 0.151 | F8: 0.32 | H8: 9.827 | I8: 0.242 | J8: 0.15 | K8: 0.161 | M8: 2.989 | N8: 0.26 | O8: 0.157 | P8: 0.161
A10: NO WEIGHTS
C11: 05-'19 | H11: 10-'20 | M11: 15-'20
C12: Total Return | D12: CAGR | E12: VOL | F12: Max DD | H12: Total Return | I12: CAGR | J12: VOL | K12: Max DD | L12: 0.337 | M12: Total Return | N12: CAGR | O12: VOL | P12: Max DD
A13: American Muscle | B13: Original + | C13: 12.186 | D13: 0.188 | E13: 0.166 | F13: 0.308 | G13: 0.552 | H13: 10.185 | I13: 0.246 | J13: 0.163 | K13: 0.2 | M13: 3.415 | N13: 0.281 | O13: 0.174 | P13: 0.2 | Q13: 0.337
A14: American Muscle2 | B14: Adds IWM & XLG | C14: 13.543 | D14: 0.196 | E14: 0.167 | F14: 0.312 | H14: 11.273 | I14: 0.256 | J14: 0.165 | K14: 0.2 | M14: 3.582 | N14: 0.289 | O14: 0.176 | P14: 0.2
A15: American Muscle3 | B15: ADD IWM | C15: 13.706 | D15: 0.197 | E15: 0.167 | F15: 0.312 | H15: 11.119 | I15: 0.255 | J15: 0.165 | K15: 0.2 | M15: 3.561 | N15: 0.288 | O15: 0.176 | P15: 0.2
A16: American Muscle4 | B16: ADD IWM and SPGP | C16: 13.71 | D16: 0.197 | E16: 0.167 | F16: 0.312 | H16: 11.076 | I16: 0.254 | J16: 0.165 | K16: 0.2 | M16: 3.465 | N16: 0.283 | O16: 0.175 | P16: 0.2
A17: American Muscle5 | B17: ADD - VBR & VBK, SPGP & IWM | C17: 13.846 | D17: 0.197 | E17: 0.169 | F17: 0.338 | H17: 11.523 | I17: 0.259 | J17: 0.166 | K17: 0.2 | M17: 3.702 | N17: 0.295 | O17: 0.175 | P17: 0.2
A19: WEIGHTS (40,30,30) | C19: 05-'19 | H19: 10-'20 | M19: 15-'20
C20: Total Return | D20: CAGR | E20: VOL | F20: Max DD | H20: Total Return | I20: CAGR | J20: VOL | K20: Max DD | L20: 0.337 | M20: Total Return | N20: CAGR | O20: VOL | P20: Max DD
A21: Lean Muscle1 | B21: Original + | C21: 5 | D21: 0.127 | E21: 0.12 | F21: 0.236 | G21: 0.552
A22: Lean Muscle2 | B22: ADD IWM & SPGP | C22: 4.292 | D22: 0.118 | E22: 0.126 | F22: 0.246
